BEGIN:VCALENDAR
VERSION:2.0
PRODID:-//Inclusive Companies - ECPv6.3.7//NONSGML v1.0//EN
CALSCALE:GREGORIAN
METHOD:PUBLISH
X-WR-CALNAME:Inclusive Companies
X-ORIGINAL-URL:https://www.inclusivecompanies.co.uk
X-WR-CALDESC:Events for Inclusive Companies
REFRESH-INTERVAL;VALUE=DURATION:PT1H
X-Robots-Tag:noindex
X-PUBLISHED-TTL:PT1H
BEGIN:VTIMEZONE
TZID:America/Detroit
BEGIN:DAYLIGHT
TZOFFSETFROM:-0500
TZOFFSETTO:-0400
TZNAME:EDT
DTSTART:20260308T070000
END:DAYLIGHT
BEGIN:STANDARD
TZOFFSETFROM:-0400
TZOFFSETTO:-0500
TZNAME:EST
DTSTART:20261101T060000
END:STANDARD
END:VTIMEZONE
BEGIN:VEVENT
DTSTART;VALUE=DATE:20260401
DTEND;VALUE=DATE:20260501
DTSTAMP:20260422T014437
CREATED:20260416T101817Z
LAST-MODIFIED:20260416T101817Z
UID:10000261-1775001600-1777593599@www.inclusivecompanies.co.uk
SUMMARY:Stress Awareness Month
DESCRIPTION:Stress Awareness Month
URL:https://www.inclusivecompanies.co.uk/event/stress-awareness-month/
CATEGORIES:Awareness Days,Diversity Calendar
ATTACH;FMTTYPE=image/jpeg:https://www.inclusivecompanies.co.uk/wp-content/uploads/2024/01/01CalendarPlaceholder.jpg
END:VEVENT
BEGIN:VEVENT
DTSTART;VALUE=DATE:20260401
DTEND;VALUE=DATE:20260501
DTSTAMP:20260422T014437
CREATED:20260416T101921Z
LAST-MODIFIED:20260416T101921Z
UID:10000262-1775001600-1777593599@www.inclusivecompanies.co.uk
SUMMARY:Autism Acceptance Month
DESCRIPTION:Autism Acceptance Month
URL:https://www.inclusivecompanies.co.uk/event/autism-acceptance-month/
CATEGORIES:Awareness Days,Diversity Calendar
ATTACH;FMTTYPE=image/jpeg:https://www.inclusivecompanies.co.uk/wp-content/uploads/2024/01/01CalendarPlaceholder.jpg
END:VEVENT
BEGIN:VEVENT
DTSTART;VALUE=DATE:20260422
DTEND;VALUE=DATE:20260423
DTSTAMP:20260422T014437
CREATED:20260416T103418Z
LAST-MODIFIED:20260416T103418Z
UID:10000274-1776816000-1776902399@www.inclusivecompanies.co.uk
SUMMARY:Stephen Lawrence Day
DESCRIPTION:Stephen Lawrence Day
URL:https://www.inclusivecompanies.co.uk/event/stephen-lawrence-day/
CATEGORIES:Awareness Days,Diversity Calendar
ATTACH;FMTTYPE=image/jpeg:https://www.inclusivecompanies.co.uk/wp-content/uploads/2024/01/01CalendarPlaceholder.jpg
END:VEVENT
BEGIN:VEVENT
DTSTART;TZID=America/Detroit:20260422T120000
DTEND;TZID=America/Detroit:20260422T130000
DTSTAMP:20260422T014437
CREATED:20260223T125826Z
LAST-MODIFIED:20260323T091846Z
UID:10000247-1776859200-1776862800@www.inclusivecompanies.co.uk
SUMMARY:Stephen Lawrence Day: What does it mean to be anti-racist?
DESCRIPTION:Facilitated by Anuli Changa (she/they) \nRecognise Stephen Lawrence Day by exploring his powerful legacy\, what his story can teach us about different forms of racism\, the need for inclusivity and active allyship. From name pronunciations\, to representation\, to language\, we can all play a part in anti-racist practices. \nThis webinar will include: \n\nLearnings from Stephen Lawrence’s legacy\nExploration of racism in different forms\nHow we can make biases conscious\nThe importance of recognising power and privilege\nThe importance of small acts of allyship\nAnti-racism tools and intersectionality\n\nCLICK HERE TO REGISTER FOR FREE!\n\nAbout the facilitator \nAnuli Changa is a multifaceted UK-based creative\, educator\, consultant and advocate whose work spans education\, heritage\, the arts\, healthcare\, corporations and Diversity\, Equity and Inclusion. She creates and delivers DEIB training for adults and young people\, incorporating exploration of microaggressions and Active Bystander education. \nAnuli holds a Law degree from the University of Manchester\, is a Mental Health First Aid Instructor and trained in trauma-informed practices. She is also the Inclusion and Representation Trustee for Bi Pride UK. \nAnuli also writes/directs Theatre in Education programmes exploring anti-racism and Black history delivered in Schools across the country. Anuli champions intersectional anti-oppression and active allyship across her work. She is frequently invited to moderate/speak on panels to share her professional and lived experience as a Queer\, Neurodivergent\, Woman of Global Majority\, as well as exploring these experiences in her writing (@wordsbyanuli) \nCLICK HERE TO REGISTER FOR FREE!
URL:https://www.inclusivecompanies.co.uk/event/stephen-lawrence-day-what-does-it-truly-mean-to-be-anti-racist/
LOCATION:Online Webinar
CATEGORIES:IC Events,Webinars
ATTACH;FMTTYPE=image/png:https://www.inclusivecompanies.co.uk/wp-content/uploads/2026/02/StephenLawrenceDayWebinar.png
ORGANIZER;CN="Inclusive Companies":MAILTO:info@inclusivecompanies.co.uk
END:VEVENT
END:VCALENDAR